BEGIN:VCALENDAR
VERSION:2.0
PRODID:-//Princeton Theological Seminary - ECPv6.15.17.1//NONSGML v1.0//EN
CALSCALE:GREGORIAN
METHOD:PUBLISH
X-ORIGINAL-URL:https://ptsem.edu
X-WR-CALDESC:Events for Princeton Theological Seminary
REFRESH-INTERVAL;VALUE=DURATION:PT1H
X-Robots-Tag:noindex
X-PUBLISHED-TTL:PT1H
BEGIN:VTIMEZONE
TZID:America/New_York
BEGIN:DAYLIGHT
TZOFFSETFROM:-0500
TZOFFSETTO:-0400
TZNAME:EDT
DTSTART:20230312T070000
END:DAYLIGHT
BEGIN:STANDARD
TZOFFSETFROM:-0400
TZOFFSETTO:-0500
TZNAME:EST
DTSTART:20231105T060000
END:STANDARD
BEGIN:DAYLIGHT
TZOFFSETFROM:-0500
TZOFFSETTO:-0400
TZNAME:EDT
DTSTART:20240310T070000
END:DAYLIGHT
BEGIN:STANDARD
TZOFFSETFROM:-0400
TZOFFSETTO:-0500
TZNAME:EST
DTSTART:20241103T060000
END:STANDARD
BEGIN:DAYLIGHT
TZOFFSETFROM:-0500
TZOFFSETTO:-0400
TZNAME:EDT
DTSTART:20250309T070000
END:DAYLIGHT
BEGIN:STANDARD
TZOFFSETFROM:-0400
TZOFFSETTO:-0500
TZNAME:EST
DTSTART:20251102T060000
END:STANDARD
BEGIN:DAYLIGHT
TZOFFSETFROM:-0500
TZOFFSETTO:-0400
TZNAME:EDT
DTSTART:20260308T070000
END:DAYLIGHT
BEGIN:STANDARD
TZOFFSETFROM:-0400
TZOFFSETTO:-0500
TZNAME:EST
DTSTART:20261101T060000
END:STANDARD
BEGIN:DAYLIGHT
TZOFFSETFROM:-0500
TZOFFSETTO:-0400
TZNAME:EDT
DTSTART:20270314T070000
END:DAYLIGHT
BEGIN:STANDARD
TZOFFSETFROM:-0400
TZOFFSETTO:-0500
TZNAME:EST
DTSTART:20271107T060000
END:STANDARD
END:VTIMEZONE
BEGIN:VEVENT
DTSTART;TZID=America/New_York:20260117T090000
DTEND;TZID=America/New_York:20260117T200000
DTSTAMP:20260420T133429
CREATED:20250905T185736Z
LAST-MODIFIED:20250905T210411Z
UID:10003766-1768640400-1768680000@ptsem.edu
SUMMARY:Princeton Seminary Alumni Choir Day
DESCRIPTION:A Day of Fellowship\, Learning\, and Song\nHosted by: Princeton Seminary Office of Alumni Relations\nWhen: Saturday\, January 17\, 2026\, starting starts at 9:00 a.m.\nWhere: Pinnacle Presbyterian Church\, Scottsdale\, Arizona \n\nPrinceton Seminary alums are invited to join  a special day of community and music with the Seminary Touring Choir\, directed by Dr. Martin Tel. We will rehearse beloved Seminary choral favorites (yes\, The Call is included!)\, enjoy Professor Eric Barreto’s lecture Reading the Gospel of Luke with Time by\, and connect with fellow alums during breaks and shared meals. \nThe celebration will culminate in an evening concert\, uniting alumni voices with current Princeton Seminary students and the adult choir of Pinnacle Presbyterian Church. \nWhether you once sang under Martin Tel (marking 30 years in 2026!)\, David Weadon\, James Litton\, or David Hugh Jones—or never had the chance to sing in choir during seminary—you are warmly welcome. \n\nRegistration\n\nFee: $75 (includes lunch\, dinner\, and all choral scores)\nTravel & Lodging: Participants arrange their own accommodations\nSupport: Partially underwritten by the David Weadon Memorial Trust\n\n\n>>Register Now
URL:https://ptsem.edu/event/princeton-seminary-alumni-choir-day/
LOCATION:Pinnacle Presbyterian Church\, 25150 N Pima Rd\, Scottsdale\, AZ\, 85255\, United States
CATEGORIES:Alumni,Faculty
ATTACH;FMTTYPE=image/png:https://ptsem.edu/wp-content/uploads/2025/09/Chapel-Choir_1200-x-628.png
ORGANIZER;CN="Alumni Relations":MAILTO:alumni@ptsem.edu
END:VEVENT
BEGIN:VEVENT
DTSTART;TZID=America/New_York:20250512T080000
DTEND;TZID=America/New_York:20250514T170000
DTSTAMP:20260420T133429
CREATED:20250226T213817Z
LAST-MODIFIED:20250226T213817Z
UID:10003473-1747036800-1747242000@ptsem.edu
SUMMARY:Alumni Reunion
DESCRIPTION:Reunion 2025: A Memorable Experience Awaits You! \nA stellar line up of guest speakers\, Princeton Seminary professors\, and preachers await you at Reunion where you will again enjoy the teaching\, learning\, and worship at the heart of a Princeton Seminary experience. \nCome back to campus and  enjoy daily worship\, a keynote address from President Jonathan Lee Walton\, faculty presentations\, class dinners\, walking through town\, and connecting with your classmates. \n>>View the Reunion Schedule \n>>Register for Reunion \n 
URL:https://ptsem.edu/event/alumni-reunion/
LOCATION:Princeton Seminary\, 64 Mercer Street\, Princeton\, NJ\, 08542\, United States
CATEGORIES:Alumni,Homepage
ATTACH;FMTTYPE=image/jpeg:https://ptsem.edu/wp-content/uploads/2025/02/Reunion_Image_One.jpg
ORGANIZER;CN="Alumni Relations":MAILTO:alumni@ptsem.edu
END:VEVENT
BEGIN:VEVENT
DTSTART;TZID=America/New_York:20250421T123000
DTEND;TZID=America/New_York:20250421T183000
DTSTAMP:20260420T133429
CREATED:20250318T163118Z
LAST-MODIFIED:20250321T132705Z
UID:10003478-1745238600-1745260200@ptsem.edu
SUMMARY:Stories That Shape Us: Honoring the Past\, Inspiring the Future
DESCRIPTION:Discover how storytelling shapes history\, strengthens identity\, and drives advocacy. In this interactive workshop\, you’ll engage with experts to explore the impact of narratives\, participate in small-group discussions to share perspectives\, and develop plan for storytelling in your own context. Whether you’re preserving history\, defining your identity\, or championing a cause\, this session will inform your work to craft and share powerful stories that inspire action. \nThis workshop is part of a day-long celebration of noted Princeton Seminary alumna\, Prathia Hall\, an American leader and activist in the Civil Rights Movement\, a womanist theologian\, and ethicist. The workshop will be preceded by a beautiful lunch to honor local legend\, Shirley Satterfield. \nThe evening event\, the Prathia Hall Lecture\, will be delivered by Dr. Danielle McGuire\, an award-winning historian\, public speaker and author. \nEvent Schedule \n12:30–2 pm: Luncheon honoring Shirley Satterfield\, catered by Chef Margo Carner of Fridge2Table \n2:30–4 pm: “The Power of Storytelling in History\, Identity\, and Advocacy\,” featuring documentarian Purcell Carson and historian Mélena Laudig. \n5 –6:30 pm: Prathia Hall Lecture\, presented by Dr. Danielle McGuire\, with a response from Professor Keri L. Day\, the Elmer G. Homrighausen Professor of Constructive Theology and African American Religion at Princeton Seminary. \nWhile the Prathia Hall Lecture is free and open to the public\, the luncheon and workshop require an advance registration fee. \n>>Register to Attend \n\nAbout our Featured Guests \nPurcell Carson\, documentary filmmaker and editor. She’s served as a lead creative partner editing character-driven\, observational documentaries\, including the Oscar-winning Smile Pinki.  Also short-listed for the Oscar were Semper Fi: Always Faithful\, which won best-editing from the Tribeca Film Festival for its look at toxic water contamination on US military bases\, and Simple as Water\, an IDA best-editing nominee for its portrait of Syrian refugees. Purcell is currently editing an essay film\, Death and Taxes\, about… death and taxes.Purcell’s directorial work is connected to Trenton\, New Jersey and Princeton University\, where she has taught a seminar in urban studies and film and directed a community-engaged documentary program\, The Trenton Project\, for the past ten years. \nMélena Laudig\, historian and the incoming Assistant Professor of African American Christianity at Princeton Theological Seminary. Laudig will join the faculty in fall 2025 after completing the doctoral program in the Department of Religion at Princeton University. Before beginning her position at Princeton Seminary\, she will be conducting research during the 2024-2025 academic year through the support of the Richard S. Dunn Fellowship at the McNeil Center for Early American Studies and the Lake Doctoral Dissertation Fellowship at the Lake Institute on Faith and Giving. \nDanielle McGuire\, PhD\, award-winning Civil Rights historian\, public speaker and the author of At the Dark End of the Street: Black Women\, Rape and Resistance-a New History of the Civil Rights Movement from Rosa Parks to the Rise of Black Power (Knopf). She is the editor of Freedom Rights: New Perspectives on the Civil Rights Movement; wrote the forward for John Hersey’s Algiers Motel Incident; and has contributed chapters to many other books related to the Black Freedom Struggle. She is a Distinguished Lecturer for the Organization of American Historians and has appeared on PBS\, CNN\, MSNBC\, Headline News\, National Public Radio\, and BookTV. Her popular essays have appeared in the Los Angeles Review of Books\, the Detroit Free Press\, Bridge Magazine\, Washington Post\, Huffington Post and CNN.com. She serves as a consultant on documentary films such as The Rape of Recy Taylor and You Belong to Me: The Ruby McCollum Story. She also helps curate historical tours and civil rights-related curricula for secondary schools and serves on the advisory board of History Studio. She is currently at work on a book about police violence in Detroit in 1967\, to be published by Knopf. \n  \n 
URL:https://ptsem.edu/event/stories-that-shape-us-honoring-the-past-inspiring-the-future/
LOCATION:Princeton Seminary\, 64 Mercer Street\, Princeton\, NJ\, 08542\, United States
CATEGORIES:Alumni
ATTACH;FMTTYPE=image/jpeg:https://ptsem.edu/wp-content/uploads/2025/03/Website-Hero-Image-1600x900-5.jpg
ORGANIZER;CN="Alumni Relations":MAILTO:alumni@ptsem.edu
END:VEVENT
BEGIN:VEVENT
DTSTART;TZID=America/New_York:20250305T150000
DTEND;TZID=America/New_York:20250305T160000
DTSTAMP:20260420T133429
CREATED:20250220T001217Z
LAST-MODIFIED:20250220T001735Z
UID:10003468-1741186800-1741190400@ptsem.edu
SUMMARY:Alumni Office Hours with Assistant Professor of Preaching\, Kimberly Wagner
DESCRIPTION:Where is God to be found in experiences of natural disaster and violence? In Fractured Ground: Preaching in the Wake of Mass Trauma\, Assistant Professor of Preaching\, Kimberly Wagner helps preachers offer a word of hope amid the disorientation of trauma. \nDr. Wagner is offering four sessions of online office hours for those seeking conversation about these topics.  Times being offered are noted below. Click your preferred date to register. Space is limited. \n\nTuesday\, February 25\, 2025\, 12:00 p.m. – 1:00 p.m. eastern time\nWednesday\, February 26\, 2025\, 12:00 p.m. – 1:00 p.m. eastern time\nMonday\, March 3\, 2025\, 11:00 a.m. – 12:00 p.m. eastern time\nWednesday\, March 5\, 2025\, 3:00 p.m. – 4:00 p.m. eastern time
URL:https://ptsem.edu/event/alumni-office-hours-with-assistant-professor-of-preaching-kimberly-wagner/2025-03-05/
LOCATION:Virtual/Zoom
CATEGORIES:Alumni
ATTACH;FMTTYPE=image/jpeg:https://ptsem.edu/wp-content/uploads/2025/02/YouTube-Thumbnail-Template-3.jpg
ORGANIZER;CN="Alumni Relations":MAILTO:alumni@ptsem.edu
END:VEVENT
BEGIN:VEVENT
DTSTART;TZID=America/New_York:20250303T110000
DTEND;TZID=America/New_York:20250303T120000
DTSTAMP:20260420T133429
CREATED:20250220T001217Z
LAST-MODIFIED:20250220T001735Z
UID:10003467-1740999600-1741003200@ptsem.edu
SUMMARY:Alumni Office Hours with Assistant Professor of Preaching\, Kimberly Wagner
DESCRIPTION:Where is God to be found in experiences of natural disaster and violence? In Fractured Ground: Preaching in the Wake of Mass Trauma\, Assistant Professor of Preaching\, Kimberly Wagner helps preachers offer a word of hope amid the disorientation of trauma. \nDr. Wagner is offering four sessions of online office hours for those seeking conversation about these topics.  Times being offered are noted below. Click your preferred date to register. Space is limited. \n\nTuesday\, February 25\, 2025\, 12:00 p.m. – 1:00 p.m. eastern time\nWednesday\, February 26\, 2025\, 12:00 p.m. – 1:00 p.m. eastern time\nMonday\, March 3\, 2025\, 11:00 a.m. – 12:00 p.m. eastern time\nWednesday\, March 5\, 2025\, 3:00 p.m. – 4:00 p.m. eastern time
URL:https://ptsem.edu/event/alumni-office-hours-with-assistant-professor-of-preaching-kimberly-wagner/2025-03-03/
LOCATION:Virtual/Zoom
CATEGORIES:Alumni
ATTACH;FMTTYPE=image/jpeg:https://ptsem.edu/wp-content/uploads/2025/02/YouTube-Thumbnail-Template-3.jpg
ORGANIZER;CN="Alumni Relations":MAILTO:alumni@ptsem.edu
END:VEVENT
BEGIN:VEVENT
DTSTART;TZID=America/New_York:20250226T120000
DTEND;TZID=America/New_York:20250226T130000
DTSTAMP:20260420T133429
CREATED:20250220T001531Z
LAST-MODIFIED:20250220T001532Z
UID:10003466-1740571200-1740574800@ptsem.edu
SUMMARY:Alumni Office Hours with Assistant Professor of Preaching\, Kimberly Wagner
DESCRIPTION:Where is God to be found in experiences of natural disaster and violence? In Fractured Ground: Preaching in the Wake of Mass Trauma\, Assistant Professor of Preaching\, Kimberly Wagner helps preachers offer a word of hope amid the disorientation of trauma. \n>>Register for Office Hours on Wednesday\, February 26\, 2025\, 12:00 p.m. – 1:00 p.m. eastern time
URL:https://ptsem.edu/event/alumni-office-hours-with-assistant-professor-of-preaching-kimberly-wagner-2/
LOCATION:Virtual/Zoom
CATEGORIES:Alumni
ATTACH;FMTTYPE=image/jpeg:https://ptsem.edu/wp-content/uploads/2025/02/YouTube-Thumbnail-Template-3.jpg
ORGANIZER;CN="Alumni Relations":MAILTO:alumni@ptsem.edu
END:VEVENT
BEGIN:VEVENT
DTSTART;TZID=America/New_York:20250226T120000
DTEND;TZID=America/New_York:20250226T130000
DTSTAMP:20260420T133429
CREATED:20250220T001217Z
LAST-MODIFIED:20250220T001735Z
UID:10003469-1740571200-1740574800@ptsem.edu
SUMMARY:Alumni Office Hours with Assistant Professor of Preaching\, Kimberly Wagner
DESCRIPTION:Where is God to be found in experiences of natural disaster and violence? In Fractured Ground: Preaching in the Wake of Mass Trauma\, Assistant Professor of Preaching\, Kimberly Wagner helps preachers offer a word of hope amid the disorientation of trauma. \nDr. Wagner is offering four sessions of online office hours for those seeking conversation about these topics.  Times being offered are noted below. Click your preferred date to register. Space is limited. \n\nTuesday\, February 25\, 2025\, 12:00 p.m. – 1:00 p.m. eastern time\nWednesday\, February 26\, 2025\, 12:00 p.m. – 1:00 p.m. eastern time\nMonday\, March 3\, 2025\, 11:00 a.m. – 12:00 p.m. eastern time\nWednesday\, March 5\, 2025\, 3:00 p.m. – 4:00 p.m. eastern time
URL:https://ptsem.edu/event/alumni-office-hours-with-assistant-professor-of-preaching-kimberly-wagner/2025-02-26/
LOCATION:Virtual/Zoom
CATEGORIES:Alumni
ATTACH;FMTTYPE=image/jpeg:https://ptsem.edu/wp-content/uploads/2025/02/YouTube-Thumbnail-Template-3.jpg
ORGANIZER;CN="Alumni Relations":MAILTO:alumni@ptsem.edu
END:VEVENT
BEGIN:VEVENT
DTSTART;TZID=America/New_York:20250225T130000
DTEND;TZID=America/New_York:20250225T140000
DTSTAMP:20260420T133429
CREATED:20250220T001217Z
LAST-MODIFIED:20250220T001735Z
UID:10003465-1740488400-1740492000@ptsem.edu
SUMMARY:Alumni Office Hours with Assistant Professor of Preaching\, Kimberly Wagner
DESCRIPTION:Where is God to be found in experiences of natural disaster and violence? In Fractured Ground: Preaching in the Wake of Mass Trauma\, Assistant Professor of Preaching\, Kimberly Wagner helps preachers offer a word of hope amid the disorientation of trauma. \nDr. Wagner is offering four sessions of online office hours for those seeking conversation about these topics.  Times being offered are noted below. Click your preferred date to register. Space is limited. \n\nTuesday\, February 25\, 2025\, 12:00 p.m. – 1:00 p.m. eastern time\nWednesday\, February 26\, 2025\, 12:00 p.m. – 1:00 p.m. eastern time\nMonday\, March 3\, 2025\, 11:00 a.m. – 12:00 p.m. eastern time\nWednesday\, March 5\, 2025\, 3:00 p.m. – 4:00 p.m. eastern time
URL:https://ptsem.edu/event/alumni-office-hours-with-assistant-professor-of-preaching-kimberly-wagner/2025-02-25/
LOCATION:Virtual/Zoom
CATEGORIES:Alumni
ATTACH;FMTTYPE=image/jpeg:https://ptsem.edu/wp-content/uploads/2025/02/YouTube-Thumbnail-Template-3.jpg
ORGANIZER;CN="Alumni Relations":MAILTO:alumni@ptsem.edu
END:VEVENT
BEGIN:VEVENT
DTSTART;VALUE=DATE:20240513
DTEND;VALUE=DATE:20240516
DTSTAMP:20260420T133429
CREATED:20240426T170622Z
LAST-MODIFIED:20240508T023117Z
UID:10000341-1715558400-1715817599@ptsem.edu
SUMMARY:Reunion 2024
DESCRIPTION:Come back to Princeton Theological Seminary.  Stroll the campus\, rekindle friendships\, worship together\, and experience PTS today.  Enjoy your anniversary class dinner\, alumni awards luncheon\, and more times for fellowship back on your seminary campus.  \nAll alumni are invited to participate\, especially those celebrating milestone graduation anniversaries.  This year our anniversary class years end in 4 and 9.  \n\n\nRegister Now\n\n\n\n\nRegistration closes April 29\, 2024
URL:https://ptsem.edu/event/reunion-2024/
LOCATION:Princeton Seminary\, 64 Mercer Street\, Princeton\, NJ\, 08542\, United States
CATEGORIES:Alumni,Campus Life,Homepage
ATTACH;FMTTYPE=image/jpeg:https://ptsem.edu/wp-content/uploads/2024/04/REUNION-META.jpg
ORGANIZER;CN="Alumni Relations":MAILTO:alumni@ptsem.edu
END:VEVENT
END:VCALENDAR